View In:
ArcGIS JavaScript
ArcGIS.com Map
Google Earth
ArcMap
View Footprint In:
ArcGIS.com Map
Service Description: Oaklands Mansion flora map
Name: Archives/Oaklands_Flora_Map
Description: Oaklands Mansion flora map
Single Fused Map Cache: false
Extent:
XMin: 1853968.599327991
YMin: 553773.4414368347
XMax: 1855245.579314902
YMax: 554681.118925145
Spatial Reference: 102736
(2274)
Initial Extent:
XMin: 1853968.599327991
YMin: 553773.4414368347
XMax: 1855245.579314902
YMax: 554681.118925145
Spatial Reference: 102736
(2274)
Full Extent:
XMin: 1853968.599327991
YMin: 553773.4414368347
XMax: 1855245.579314902
YMax: 554681.118925145
Spatial Reference: 102736
(2274)
Pixel Size X: 0.1788487376625968
Pixel Size Y: 0.17563418891452448
Band Count: 3
Pixel Type: U8
RasterFunction Infos: N/A
Mensuration Capabilities: Basic
Has Histograms: true
Has Colormap: false
Has Multi Dimensions : false
Rendering Rule:
Min Scale: 0
Max Scale: 0
Copyright Text: Matthew Whitten
Service Data Type: esriImageServiceDataTypeRGB
Min Values: 2, 0, 0
Max Values: 255, 255, 255
Mean Values: 239.04205132445, 233.74778060392, 224.28681061378
Standard Deviation Values: 37.547808875812, 37.862136046246, 36.790471760424
Object ID Field:
Fields:
None
Default Mosaic Method: Center
Allowed Mosaic Methods:
SortField:
SortValue: null
Mosaic Operator: First
Default Compression Quality: 75
Default Resampling Method: Bilinear
Max Record Count: null
Max Image Height: 4100
Max Image Width: 15000
Max Download Image Count: null
Max Mosaic Image Count: null
Allow Raster Function: true
Allow Compute TiePoints: false
Supports Statistics: false
Supports Advanced Queries: false
Use StandardizedQueries: true
Raster Type Infos:
Name: Raster Dataset
Description: Supports all ArcGIS Raster Datasets
Help:
Has Raster Attribute Table: false
Edit Fields Info: null
Ownership Based AccessControl For Rasters: null
Child Resources:
Info
Histograms
Key Properties
Legend
MultiDimensionalInfo
rasterFunctionInfos
Supported Operations:
Export Image
Identify
Measure
Compute Histograms
Get Samples
Compute Class Statistics