{
 "currentVersion": 10.3,
 "serviceDescription": "Oaklands Mansion flora map",
 "name": "Archives/Oaklands_Flora_Map",
 "description": "Oaklands Mansion flora map",
 "extent": {
  "xmin": 1853968.599327991,
  "ymin": 553773.4414368347,
  "xmax": 1855245.579314902,
  "ymax": 554681.118925145,
  "spatialReference": {
   "wkid": 102736,
   "latestWkid": 2274
  }
 },
 "initialExtent": {
  "xmin": 1853968.599327991,
  "ymin": 553773.4414368347,
  "xmax": 1855245.579314902,
  "ymax": 554681.118925145,
  "spatialReference": {
   "wkid": 102736,
   "latestWkid": 2274
  }
 },
 "fullExtent": {
  "xmin": 1853968.599327991,
  "ymin": 553773.4414368347,
  "xmax": 1855245.579314902,
  "ymax": 554681.118925145,
  "spatialReference": {
   "wkid": 102736,
   "latestWkid": 2274
  }
 },
 "pixelSizeX": 0.1788487376625968,
 "pixelSizeY": 0.17563418891452448,
 "bandCount": 3,
 "pixelType": "U8",
 "minPixelSize": 0,
 "maxPixelSize": 0,
 "copyrightText": "Matthew Whitten",
 "serviceDataType": "esriImageServiceDataTypeRGB",
 "minValues": [
  2,
  0,
  0
 ],
 "maxValues": [
  255,
  255,
  255
 ],
 "meanValues": [
  239.04205132445,
  233.74778060392,
  224.28681061378
 ],
 "stdvValues": [
  37.547808875812,
  37.862136046246,
  36.790471760424
 ],
 "objectIdField": "",
 "fields": [],
 "capabilities": "Image,Metadata,Mensuration",
 "defaultMosaicMethod": "Center",
 "allowedMosaicMethods": "",
 "sortField": "",
 "sortValue": null,
 "mosaicOperator": "First",
 "defaultCompressionQuality": 75,
 "defaultResamplingMethod": "Bilinear",
 "maxImageHeight": 4100,
 "maxImageWidth": 15000,
 "allowRasterFunction": true,
 "rasterFunctionInfos": [],
 "rasterTypeInfos": [
  {
   "name": "Raster Dataset",
   "description": "Supports all ArcGIS Raster Datasets",
   "help": ""
  }
 ],
 "mensurationCapabilities": "Basic",
 "hasHistograms": true,
 "hasColormap": false,
 "hasRasterAttributeTable": false,
 "minScale": 0,
 "maxScale": 0,
 "exportTilesAllowed": false,
 "hasMultidimensions": false,
 "supportsStatistics": false,
 "supportsAdvancedQueries": false,
 "editFieldsInfo": null,
 "ownershipBasedAccessControlForRasters": null,
 "allowComputeTiePoints": false,
 "useStandardizedQueries": true,
 "spatialReference": {
  "wkid": 102736,
  "latestWkid": 2274
 }
}
